BEGIN:VCALENDAR
VERSION:2.0
PRODID:-//Crescent Pearls Technical College of Education - ECPv6.15.20//NONSGML v1.0//EN
CALSCALE:GREGORIAN
METHOD:PUBLISH
X-WR-CALNAME:Crescent Pearls Technical College of Education
X-ORIGINAL-URL:https://cptech.edu.ng
X-WR-CALDESC:Events for Crescent Pearls Technical College of Education
REFRESH-INTERVAL;VALUE=DURATION:PT1H
X-Robots-Tag:noindex
X-PUBLISHED-TTL:PT1H
BEGIN:VTIMEZONE
TZID:UTC
BEGIN:STANDARD
TZOFFSETFROM:+0000
TZOFFSETTO:+0000
TZNAME:UTC
DTSTART:20230101T000000
END:STANDARD
END:VTIMEZONE
BEGIN:VEVENT
DTSTART;VALUE=DATE:20240820
DTEND;VALUE=DATE:20240821
DTSTAMP:20260419T200931
CREATED:20240822T082142Z
LAST-MODIFIED:20240822T082142Z
UID:8613-1724112000-1724198399@cptech.edu.ng
SUMMARY:Sustainability & Development Showcase: Green Living at Unipix
DESCRIPTION:About The Event				\n				\n									Join us for the Future Minds Symposium\, a thought-provoking educational event designed to inspire and empower individuals to navigate the challenges and opportunities of tomorrow’s world. This symposium brings together leading experts\, visionaries\, and innovators from various fields to explore cutting-edge ideas and share insights on shaping the future.								\n				\n		\n				\n							\n\n						\n				\n								\n			\n			\n						\n\n									\n						\n							Interactive Workshops:						\n					 \n				\n									\n						Connect with like-minded individuals\, professionals\, and mentors. Build a network that will support your personal and professional growth\, fostering collaboration and idea exchange.					 \n				\n			\n			\n		\n						\n				\n							\n\n						\n				\n								\n			\n			\n						\n\n									\n						\n							INetworking Opportunities:						\n					 \n				\n									\n						Hear from renowned thought leaders who will delve into topics such as artificial intelligence\, sustainability\, and the future of work. Gain valuable perspectives to help you thrive.					 \n				\n			\n			\n		\n						\n				\n							\n\n						\n				\n								\n			\n			\n						\n\n									\n						\n							Networking Opportunities:						\n					 \n				\n									\n						Hear from renowned thought leaders who will delve into topics such as artificial intelligence\, sustainability\, and the future of work. Gain valuable perspectives.					 \n				\n			\n			\n		\n						\n				\n							\n\n						\n				\n								\n			\n			\n						\n\n									\n						\n							Registration:						\n					 \n				\n									\n						Secure your spot today and be part of the Future Minds Symposium. Early bird registration is now open at www.Unipix Don't miss this opportunity to gain valuable insights.					 \n				\n			\n			\n		\n						\n				\n				\n				\n		\n		\n				\n					INFORMATION				\n				\n				\n					\n	\n	Date & Time:	\n			August 20\, 2024\n\n		\n\n\n	\n				\n				\n				\n				\n					\n	Cost:\n$80 				\n				\n				\n				\n					\n	\n\n	Categories:	\n		Chemistry\, Physics	\n\n				\n				\n				\n				\n					\n	\n	Website:	\n	event.unipix.com\n\n				\n				\n				\n		\n		\n				\n				\n					\n	\n	Organizer\n	Assistant Teacher\n	\n	\n\n	Phone:\n					\n			-254 457 658			\n	 \n\n\n	\n\n	Website:View Organizer Website \n\n\n	\n	Email:\n					\n			organize@info.com			\n	 \n\n\n\n				\n				\n				\n				\n		\n				\n					VANUE				\n				\n				\n					\n				\n				\n	\n	Starry Haven Events Center\n	\n	Address:\n	\n\n\n\n	Yarra Park\, UK\n\n\n\n\n\n\n	+ Google Map \n\n\n	\n	Phone:\n					\n			(+1) 0 221 457 441			\n	 \n\n\n	\n	Website:\n	View Venue Website \n\n\n\n	\n\n\n\n		\n	\n				\n				\n				\n				\n				\n					\n				\n		\n					\n		\n		\n				\n					Event Speakers				\n				\n				\n		\n		\n				\n					Rick ZonsonAssistant Teacher 				\n				\n							\n							\n					\n						Facebook-f\n											\n				\n							\n					\n						Twitter\n											\n				\n							\n					\n						Instagram\n											\n				\n							\n					\n						Rt-linkedin-in\n											\n				\n					\n						\n				\n		\n				\n					Thomas FredTeacher 				\n				\n							\n							\n					\n						Facebook-f\n											\n				\n							\n					\n						Twitter\n											\n				\n							\n					\n						Instagram\n											\n				\n							\n					\n						Rt-linkedin-in\n											\n				\n					\n						\n				\n		\n				\n					Albert MackHead Teacher 				\n				\n							\n							\n					\n						Facebook-f\n											\n				\n							\n					\n						Twitter\n											\n				\n							\n					\n						Instagram\n											\n				\n							\n					\n						Rt-linkedin-in\n											\n				\n					\n						\n				\n		\n				\n					Micheal AlfredAssistant Teacher 				\n				\n							\n							\n					\n						Facebook-f\n											\n				\n							\n					\n						Twitter\n											\n				\n							\n					\n						Instagram\n											\n				\n							\n					\n						Rt-linkedin-in\n											\n				\n					\n						\n				\n				\n		\n				\n				\n					           \n       \n                  \n            \n            Related Event     \n\n                            \n                    \n        \n            					\n                \n                                    \n                \n                    \n                        \n							\n								\n								\n							\n                            August 20\, 2024\n                        \n                        \n							\n							\n                            9:21 am\n                        \n                    \n                    \n                                                Literary Voices: Celebrating Diverse Narratives in\n                    \n                \n                					\n				\n							\n						\n                    \n\n\n\n	Yarra Park\, UK\n\n\n\n\n                \n            \n        \n    \n    \n        \n            					\n                \n                                    \n                \n                    \n                        \n							\n								\n								\n							\n                            August 20\, 2024\n                        \n                        \n							\n							\n                            9:21 am\n                        \n                    \n                    \n                                                Bridging Cultures: Global Perspectives in Contemporary\n                    \n                \n                					\n				\n							\n						\n                    \n\n\n\n	Yarra Park\, UK\n\n\n\n\n                \n            \n        \n    \n    \n        \n            					\n                \n                                    \n                \n                    \n                        \n							\n								\n								\n							\n                            August 20\, 2024\n                        \n                        \n							\n							\n                            9:21 am\n                        \n                    \n                    \n                                                Career Carnival: Explore Your Professional Journey\n                    \n                \n                					\n				\n							\n						\n                    \n\n\n\n	Yarra Park\, UK
URL:https://cptech.edu.ng/event/sustainability-development-showcase-green-living-at-unipix/
LOCATION:Starry Haven Events Center\, Yarra Park\, UK
CATEGORIES:Chemistry,Physics
ATTACH;FMTTYPE=image/webp:https://cptech.edu.ng/wp-content/uploads/2024/07/event_2.webp
ORGANIZER;CN="Assistant Teacher":MAILTO:organize@info.com
END:VEVENT
BEGIN:VEVENT
DTSTART;VALUE=DATE:20240820
DTEND;VALUE=DATE:20240821
DTSTAMP:20260419T200931
CREATED:20240822T032640Z
LAST-MODIFIED:20240822T032640Z
UID:8592-1724112000-1724198399@cptech.edu.ng
SUMMARY:Bridging Cultures: Global Perspectives in Contemporary Academic
DESCRIPTION:About The Event				\n				\n									Join us for the Future Minds Symposium\, a thought-provoking educational event designed to inspire and empower individuals to navigate the challenges and opportunities of tomorrow’s world. This symposium brings together leading experts\, visionaries\, and innovators from various fields to explore cutting-edge ideas and share insights on shaping the future.								\n				\n		\n				\n							\n\n						\n				\n								\n			\n			\n						\n\n									\n						\n							Interactive Workshops:						\n					 \n				\n									\n						Connect with like-minded individuals\, professionals\, and mentors. Build a network that will support your personal and professional growth\, fostering collaboration and idea exchange.					 \n				\n			\n			\n		\n						\n				\n							\n\n						\n				\n								\n			\n			\n						\n\n									\n						\n							INetworking Opportunities:						\n					 \n				\n									\n						Hear from renowned thought leaders who will delve into topics such as artificial intelligence\, sustainability\, and the future of work. Gain valuable perspectives to help you thrive.					 \n				\n			\n			\n		\n						\n				\n							\n\n						\n				\n								\n			\n			\n						\n\n									\n						\n							Networking Opportunities:						\n					 \n				\n									\n						Hear from renowned thought leaders who will delve into topics such as artificial intelligence\, sustainability\, and the future of work. Gain valuable perspectives.					 \n				\n			\n			\n		\n						\n				\n							\n\n						\n				\n								\n			\n			\n						\n\n									\n						\n							Registration:						\n					 \n				\n									\n						Secure your spot today and be part of the Future Minds Symposium. Early bird registration is now open at www.Unipix Don't miss this opportunity to gain valuable insights.					 \n				\n			\n			\n		\n						\n				\n				\n				\n		\n		\n				\n					INFORMATION				\n				\n				\n					\n	\n	Date & Time:	\n			August 20\, 2024\n\n		\n\n\n	\n				\n				\n				\n				\n					\n	Cost:\n$80 				\n				\n				\n				\n					\n	\n\n	Categories:	\n		Chemistry\, Physics	\n\n				\n				\n				\n				\n					\n	\n	Website:	\n	event.unipix.com\n\n				\n				\n				\n		\n		\n				\n				\n					\n	\n	Organizer\n	Assistant Teacher\n	\n	\n\n	Phone:\n					\n			-254 457 658			\n	 \n\n\n	\n\n	Website:View Organizer Website \n\n\n	\n	Email:\n					\n			organize@info.com			\n	 \n\n\n\n				\n				\n				\n				\n		\n				\n					VANUE				\n				\n				\n					\n				\n				\n	\n	Starry Haven Events Center\n	\n	Address:\n	\n\n\n\n	Yarra Park\, UK\n\n\n\n\n\n\n	+ Google Map \n\n\n	\n	Phone:\n					\n			(+1) 0 221 457 441			\n	 \n\n\n	\n	Website:\n	View Venue Website \n\n\n\n	\n\n\n\n		\n	\n				\n				\n				\n				\n				\n					\n				\n		\n					\n		\n		\n				\n					Event Speakers				\n				\n				\n		\n		\n				\n					Rick ZonsonAssistant Teacher 				\n				\n							\n							\n					\n						Facebook-f\n											\n				\n							\n					\n						Twitter\n											\n				\n							\n					\n						Instagram\n											\n				\n							\n					\n						Rt-linkedin-in\n											\n				\n					\n						\n				\n		\n				\n					Thomas FredTeacher 				\n				\n							\n							\n					\n						Facebook-f\n											\n				\n							\n					\n						Twitter\n											\n				\n							\n					\n						Instagram\n											\n				\n							\n					\n						Rt-linkedin-in\n											\n				\n					\n						\n				\n		\n				\n					Albert MackHead Teacher 				\n				\n							\n							\n					\n						Facebook-f\n											\n				\n							\n					\n						Twitter\n											\n				\n							\n					\n						Instagram\n											\n				\n							\n					\n						Rt-linkedin-in\n											\n				\n					\n						\n				\n		\n				\n					Micheal AlfredAssistant Teacher 				\n				\n							\n							\n					\n						Facebook-f\n											\n				\n							\n					\n						Twitter\n											\n				\n							\n					\n						Instagram\n											\n				\n							\n					\n						Rt-linkedin-in\n											\n				\n					\n						\n				\n				\n		\n				\n				\n					           \n       \n                  \n            \n            Related Event     \n\n                            \n                    \n        \n            					\n                \n                                    \n                \n                    \n                        \n							\n								\n								\n							\n                            August 20\, 2024\n                        \n                        \n							\n							\n                            9:21 am\n                        \n                    \n                    \n                                                Literary Voices: Celebrating Diverse Narratives in\n                    \n                \n                					\n				\n							\n						\n                    \n\n\n\n	Yarra Park\, UK\n\n\n\n\n                \n            \n        \n    \n    \n        \n            					\n                \n                                    \n                \n                    \n                        \n							\n								\n								\n							\n                            August 20\, 2024\n                        \n                        \n							\n							\n                            9:21 am\n                        \n                    \n                    \n                                                Bridging Cultures: Global Perspectives in Contemporary\n                    \n                \n                					\n				\n							\n						\n                    \n\n\n\n	Yarra Park\, UK\n\n\n\n\n                \n            \n        \n    \n    \n        \n            					\n                \n                                    \n                \n                    \n                        \n							\n								\n								\n							\n                            August 20\, 2024\n                        \n                        \n							\n							\n                            9:21 am\n                        \n                    \n                    \n                                                Career Carnival: Explore Your Professional Journey\n                    \n                \n                					\n				\n							\n						\n                    \n\n\n\n	Yarra Park\, UK
URL:https://cptech.edu.ng/event/bridging-cultures-global-perspectives-in-contemporary-academic/
LOCATION:Starry Haven Events Center\, Yarra Park\, UK
CATEGORIES:Biology,Chemistry,Mathematics,Physics
ATTACH;FMTTYPE=image/webp:https://cptech.edu.ng/wp-content/uploads/2024/08/img-26.webp
ORGANIZER;CN="Assistant Teacher":MAILTO:organize@info.com
END:VEVENT
BEGIN:VEVENT
DTSTART;VALUE=DATE:20240820
DTEND;VALUE=DATE:20240821
DTSTAMP:20260419T200931
CREATED:20240821T080239Z
LAST-MODIFIED:20240821T080239Z
UID:8571-1724112000-1724198399@cptech.edu.ng
SUMMARY:Literary Voices: Celebrating Diverse Narratives in Modern Creative Writing
DESCRIPTION:About The Event				\n				\n									Join us for the Future Minds Symposium\, a thought-provoking educational event designed to inspire and empower individuals to navigate the challenges and opportunities of tomorrow’s world. This symposium brings together leading experts\, visionaries\, and innovators from various fields to explore cutting-edge ideas and share insights on shaping the future.								\n				\n		\n				\n							\n\n						\n				\n								\n			\n			\n						\n\n									\n						\n							Interactive Workshops:						\n					 \n				\n									\n						Connect with like-minded individuals\, professionals\, and mentors. Build a network that will support your personal and professional growth\, fostering collaboration and idea exchange.					 \n				\n			\n			\n		\n						\n				\n							\n\n						\n				\n								\n			\n			\n						\n\n									\n						\n							INetworking Opportunities:						\n					 \n				\n									\n						Hear from renowned thought leaders who will delve into topics such as artificial intelligence\, sustainability\, and the future of work. Gain valuable perspectives to help you thrive.					 \n				\n			\n			\n		\n						\n				\n							\n\n						\n				\n								\n			\n			\n						\n\n									\n						\n							Networking Opportunities:						\n					 \n				\n									\n						Hear from renowned thought leaders who will delve into topics such as artificial intelligence\, sustainability\, and the future of work. Gain valuable perspectives.					 \n				\n			\n			\n		\n						\n				\n							\n\n						\n				\n								\n			\n			\n						\n\n									\n						\n							Registration:						\n					 \n				\n									\n						Secure your spot today and be part of the Future Minds Symposium. Early bird registration is now open at www.Unipix Don't miss this opportunity to gain valuable insights.					 \n				\n			\n			\n		\n						\n				\n				\n				\n		\n		\n				\n					INFORMATION				\n				\n				\n					\n	\n	Date & Time:	\n			August 20\, 2024\n\n		\n\n\n	\n				\n				\n				\n				\n					\n	Cost:\n$80 				\n				\n				\n				\n					\n	\n\n	Categories:	\n		Chemistry\, Physics	\n\n				\n				\n				\n				\n					\n	\n	Website:	\n	event.unipix.com\n\n				\n				\n				\n		\n		\n				\n				\n					\n	\n	Organizer\n	Assistant Teacher\n	\n	\n\n	Phone:\n					\n			-254 457 658			\n	 \n\n\n	\n\n	Website:View Organizer Website \n\n\n	\n	Email:\n					\n			organize@info.com			\n	 \n\n\n\n				\n				\n				\n				\n		\n				\n					VANUE				\n				\n				\n					\n				\n				\n	\n	Starry Haven Events Center\n	\n	Address:\n	\n\n\n\n	Yarra Park\, UK\n\n\n\n\n\n\n	+ Google Map \n\n\n	\n	Phone:\n					\n			(+1) 0 221 457 441			\n	 \n\n\n	\n	Website:\n	View Venue Website \n\n\n\n	\n\n\n\n		\n	\n				\n				\n				\n				\n				\n					\n				\n		\n					\n		\n		\n				\n					Event Speakers				\n				\n				\n		\n		\n				\n					Rick ZonsonAssistant Teacher 				\n				\n							\n							\n					\n						Facebook-f\n											\n				\n							\n					\n						Twitter\n											\n				\n							\n					\n						Instagram\n											\n				\n							\n					\n						Rt-linkedin-in\n											\n				\n					\n						\n				\n		\n				\n					Thomas FredTeacher 				\n				\n							\n							\n					\n						Facebook-f\n											\n				\n							\n					\n						Twitter\n											\n				\n							\n					\n						Instagram\n											\n				\n							\n					\n						Rt-linkedin-in\n											\n				\n					\n						\n				\n		\n				\n					Albert MackHead Teacher 				\n				\n							\n							\n					\n						Facebook-f\n											\n				\n							\n					\n						Twitter\n											\n				\n							\n					\n						Instagram\n											\n				\n							\n					\n						Rt-linkedin-in\n											\n				\n					\n						\n				\n		\n				\n					Micheal AlfredAssistant Teacher 				\n				\n							\n							\n					\n						Facebook-f\n											\n				\n							\n					\n						Twitter\n											\n				\n							\n					\n						Instagram\n											\n				\n							\n					\n						Rt-linkedin-in\n											\n				\n					\n						\n				\n				\n		\n				\n				\n					           \n       \n                  \n            \n            Related Event     \n\n                            \n                    \n        \n            					\n                \n                                    \n                \n                    \n                        \n							\n								\n								\n							\n                            August 20\, 2024\n                        \n                        \n							\n							\n                            9:21 am\n                        \n                    \n                    \n                                                Literary Voices: Celebrating Diverse Narratives in\n                    \n                \n                					\n				\n							\n						\n                    \n\n\n\n	Yarra Park\, UK\n\n\n\n\n                \n            \n        \n    \n    \n        \n            					\n                \n                                    \n                \n                    \n                        \n							\n								\n								\n							\n                            August 20\, 2024\n                        \n                        \n							\n							\n                            9:21 am\n                        \n                    \n                    \n                                                Bridging Cultures: Global Perspectives in Contemporary\n                    \n                \n                					\n				\n							\n						\n                    \n\n\n\n	Yarra Park\, UK\n\n\n\n\n                \n            \n        \n    \n    \n        \n            					\n                \n                                    \n                \n                    \n                        \n							\n								\n								\n							\n                            August 20\, 2024\n                        \n                        \n							\n							\n                            9:21 am\n                        \n                    \n                    \n                                                Career Carnival: Explore Your Professional Journey\n                    \n                \n                					\n				\n							\n						\n                    \n\n\n\n	Yarra Park\, UK
URL:https://cptech.edu.ng/event/literary-voices-celebrating-diverse-narratives-in-modern-creative-writing/
LOCATION:Starry Haven Events Center\, Yarra Park\, UK
CATEGORIES:Chemistry,Computer Science,Social Science
ATTACH;FMTTYPE=image/webp:https://cptech.edu.ng/wp-content/uploads/2024/08/img-23.webp
ORGANIZER;CN="Assistant Teacher":MAILTO:organize@info.com
END:VEVENT
END:VCALENDAR